BEGIN:VCALENDAR
METHOD:PUBLISH
CALSCALE:GREGORIAN
PRODID:-//Nabla//NONSGML nabla.no//NO
VERSION:2.0
LAST-MODIFIED:20260420T230607
X-WR-TIMEZONE:Europe/Oslo

BEGIN:VEVENT
UID:event2011@nabla.no
DTSTART:20260915T161500

LOCATION:Kommer senere
ORGANIZER:http://nabla.no
CATEGORIES:Nabla
SUMMARY:Accenture
DESCRIPTION:Accenture inviterer til bedpres!
URL:http://nabla.no/arrangement/2011-accenture
END:VEVENT


END:VCALENDAR
